BEGIN:VCALENDAR
BEGIN:VEVENT
DESCRIPTION:\nMore Information: https://tickets.ifccenter.com/websales/pages/TicketSearchCriteria.aspx?evtInfo=555119~8722a542-64c1-4c0b-af02-c3e8a239d769&\n\n
DTSTART:20260425T164500Z
DTEND:20260425T181500Z
LOCATION:IFC Center, 323 Avenue of Americas, NEW YORK, NY, 10014
SUMMARY:Cave of Forgotten Dreams 3D
UID:555119
DTSTAMP:20260421T151258Z
END:VEVENT
END:VCALENDAR
