BEGIN:VCALENDAR
BEGIN:VEVENT
DESCRIPTION:\nMore Information: https://tickets.ifccenter.com/websales/pages/TicketSearchCriteria.aspx?evtInfo=554902~8722a542-64c1-4c0b-af02-c3e8a239d769&\n\n
DTSTART:20260425T212500Z
DTEND:20260425T230500Z
LOCATION:IFC Center, 323 Avenue of the Americas, New York, NY, 10014
SUMMARY:The Christophers (Open Captioning)
UID:554902
DTSTAMP:20260420T195405Z
END:VEVENT
END:VCALENDAR
