BEGIN:VCALENDAR
BEGIN:VEVENT
DESCRIPTION:\nMore Information: https://tickets.ifccenter.com/websales/pages/TicketSearchCriteria.aspx?evtInfo=554876~8722a542-64c1-4c0b-af02-c3e8a239d769&\n\n
DTSTART:20260428T234500Z
DTEND:20260429T012500Z
LOCATION:IFC Center, 323 Avenue of the Americas, New York, NY, 10014
SUMMARY:The Christophers
UID:554876
DTSTAMP:20260421T123640Z
END:VEVENT
END:VCALENDAR
