BEGIN:VCALENDAR
BEGIN:VEVENT
DESCRIPTION:\nMore Information: https://tickets.ifccenter.com/websales/pages/TicketSearchCriteria.aspx?evtInfo=554831~8722a542-64c1-4c0b-af02-c3e8a239d769&\n\n
DTSTART:20260430T014500Z
DTEND:20260430T030800Z
LOCATION:IFC Center, 323 Avenue of Americas, NEW YORK, NY, 10014
SUMMARY:Omaha
UID:554831
DTSTAMP:20260423T025955Z
END:VEVENT
END:VCALENDAR
