BEGIN:VCALENDAR
BEGIN:VEVENT
DESCRIPTION:\nMore Information: https://tickets.ifccenter.com/websales/pages/TicketSearchCriteria.aspx?evtInfo=554829~8722a542-64c1-4c0b-af02-c3e8a239d769&\n\n
DTSTART:20260429T211500Z
DTEND:20260429T223800Z
LOCATION:IFC Center, 323 Avenue of the Americas, NEW YORK, NY, 10014
SUMMARY:Omaha
UID:554829
DTSTAMP:20260423T024711Z
END:VEVENT
END:VCALENDAR
