BEGIN:VCALENDAR
BEGIN:VEVENT
DESCRIPTION:\nMore Information: https://tickets.ifccenter.com/websales/pages/TicketSearchCriteria.aspx?evtInfo=554818~8722a542-64c1-4c0b-af02-c3e8a239d769&\n\n
DTSTART:20260426T233000Z
DTEND:20260427T005300Z
LOCATION:IFC Center, 323 Avenue of the Americas, NEW YORK, NY, 10014
SUMMARY:Omaha
UID:554818
DTSTAMP:20260420T193524Z
END:VEVENT
END:VCALENDAR
