BEGIN:VCALENDAR
BEGIN:VEVENT
DESCRIPTION:\nMore Information: https://tickets.ifccenter.com/websales/pages/TicketSearchCriteria.aspx?evtInfo=554794~8722a542-64c1-4c0b-af02-c3e8a239d769&\n\n
DTSTART:20260425T020000Z
DTEND:20260425T032900Z
LOCATION:IFC Center, 323 Avenue of the Americas, New York, NY, 10014
SUMMARY:Marama
UID:554794
DTSTAMP:20260420T193647Z
END:VEVENT
END:VCALENDAR
