BEGIN:VCALENDAR
BEGIN:VEVENT
DESCRIPTION:\nMore Information: https://tickets.ifccenter.com/websales/pages/TicketSearchCriteria.aspx?evtInfo=554777~8722a542-64c1-4c0b-af02-c3e8a239d769&\n\n
DTSTART:20260424T144500Z
DTEND:20260424T162000Z
LOCATION:IFC Center, 323 Avenue of the Americas, New York, NY, 10014
SUMMARY:Maintenance Artist
UID:554777
DTSTAMP:20260420T193353Z
END:VEVENT
END:VCALENDAR
