BEGIN:VCALENDAR
BEGIN:VEVENT
DESCRIPTION:\nMore Information: https://tickets.ifccenter.com/websales/pages/TicketSearchCriteria.aspx?evtInfo=554772~8722a542-64c1-4c0b-af02-c3e8a239d769&\n\n
DTSTART:20260427T144500Z
DTEND:20260427T162000Z
LOCATION:IFC Center, 323 Avenue of Americas, NEW YORK, NY, 10014
SUMMARY:Maintenance Artist
UID:554772
DTSTAMP:20260421T025518Z
END:VEVENT
END:VCALENDAR
