BEGIN:VCALENDAR
BEGIN:VEVENT
DESCRIPTION:\nMore Information: https://tickets.ifccenter.com/websales/pages/TicketSearchCriteria.aspx?evtInfo=554755~8722a542-64c1-4c0b-af02-c3e8a239d769&\n\nGeneral Admission
DTSTART:20260501T014000Z
DTEND:20260501T034100Z
LOCATION:IFC Center, 323 Avenue of the Americas, NEW YORK, NY, 10014
SUMMARY:Blue Velvet
UID:554755
DTSTAMP:20260424T023600Z
END:VEVENT
END:VCALENDAR
