BEGIN:VCALENDAR
BEGIN:VEVENT
DESCRIPTION:\nMore Information: https://tickets.ifccenter.com/websales/pages/TicketSearchCriteria.aspx?evtInfo=554750~8722a542-64c1-4c0b-af02-c3e8a239d769&\n\nGeneral Admission
DTSTART:20260426T012000Z
DTEND:20260426T032100Z
LOCATION:IFC Center, 323 Avenue of Americas, NEW YORK, NY, 10014
SUMMARY:Blue Velvet
UID:554750
DTSTAMP:20260420T195328Z
END:VEVENT
END:VCALENDAR
