BEGIN:VCALENDAR
BEGIN:VEVENT
DESCRIPTION:\nMore Information: https://tickets.ifccenter.com/websales/pages/TicketSearchCriteria.aspx?evtInfo=554737~8722a542-64c1-4c0b-af02-c3e8a239d769&\n\n
DTSTART:20260426T184000Z
DTEND:20260426T201100Z
LOCATION:IFC Center, 323 Avenue of the Americas, New York, NY, 10014
SUMMARY:Blue Heron
UID:554737
DTSTAMP:20260420T193524Z
END:VEVENT
END:VCALENDAR
