BEGIN:VCALENDAR
BEGIN:VEVENT
DESCRIPTION:\nMore Information: https://tickets.ifccenter.com/websales/pages/TicketSearchCriteria.aspx?evtInfo=554726~8722a542-64c1-4c0b-af02-c3e8a239d769&\n\n
DTSTART:20260427T234500Z
DTEND:20260428T011600Z
LOCATION:IFC Center, 323 Avenue of the Americas, New York, NY, 10014
SUMMARY:Blue Heron
UID:554726
DTSTAMP:20260421T025611Z
END:VEVENT
END:VCALENDAR
