BEGIN:VCALENDAR
BEGIN:VEVENT
DESCRIPTION:\nMore Information: https://tickets.ifccenter.com/websales/pages/TicketSearchCriteria.aspx?evtInfo=554704~8722a542-64c1-4c0b-af02-c3e8a239d769&\n\n
DTSTART:20260425T035500Z
DTEND:20260425T054800Z
LOCATION:IFC Center, 323 Avenue of Americas, NEW YORK, NY, 10014
SUMMARY:Midnight Cowboy
UID:554704
DTSTAMP:20260420T193417Z
END:VEVENT
END:VCALENDAR
