BEGIN:VCALENDAR
BEGIN:VEVENT
DESCRIPTION:\nMore Information: https://tickets.ifccenter.com/websales/pages/TicketSearchCriteria.aspx?evtInfo=553030~8722a542-64c1-4c0b-af02-c3e8a239d769&\n\n
DTSTART:20260503T011000Z
DTEND:20260503T024800Z
LOCATION:IFC Center, 323 Avenue of the Americas, NEW YORK, NY, 10014
SUMMARY:American Dream
UID:553030
DTSTAMP:20260420T192733Z
END:VEVENT
END:VCALENDAR
