BEGIN:VCALENDAR
BEGIN:VEVENT
DESCRIPTION:\nMore Information: https://tickets.ifccenter.com/websales/pages/TicketSearchCriteria.aspx?evtInfo=546563~8722a542-64c1-4c0b-af02-c3e8a239d769&\n\n
DTSTART:20260308T023500Z
DTEND:20260308T041500Z
LOCATION:IFC Center, 323 Avenue of the Americas, New York, NY, 10014
SUMMARY:Nirvanna: The Band The Show The Movie
UID:546563
DTSTAMP:20260423T034253Z
END:VEVENT
END:VCALENDAR
