BEGIN:VCALENDAR
BEGIN:VEVENT
DESCRIPTION:\nMore Information: https://tickets.ifccenter.com/websales/pages/TicketSearchCriteria.aspx?evtInfo=420957~8722a542-64c1-4c0b-af02-c3e8a239d769&\n\n
DTSTART:20240202T161000Z
DTEND:20240202T174100Z
LOCATION:IFC Center, 323 Avenue of the Americas, NEW YORK, NY, 10014
SUMMARY:How to Have Sex
UID:420957
DTSTAMP:20260419T135937Z
END:VEVENT
END:VCALENDAR
